BEGIN:VCALENDAR
VERSION:2.0
PRODID:-//RIGHTHERE//CALENDARIZE IT V3.2//EN
BEGIN:VEVENT
UID:2763-events@www.saintjosephchievres.be
DTSTART;VALUE=DATE:20220701
DTEND;VALUE=DATE:20220901
DTSTAMP:20190701T153648Z
SUMMARY:Vacances d’été
END:VEVENT
END:VCALENDAR