BEGIN:VCALENDAR
VERSION:2.0
PRODID:-//RIGHTHERE//CALENDARIZE IT V3.2//EN
BEGIN:VEVENT
UID:2756-events@www.saintjosephchievres.be
DTSTART;VALUE=DATE:20210927
DTEND;VALUE=DATE:20210927
DTSTAMP:20190701T153300Z
SUMMARY:Fête de la Communauté française
END:VEVENT
END:VCALENDAR