BEGIN:VCALENDAR
VERSION:2.0
PRODID:-//RIGHTHERE//CALENDARIZE IT V3.2//EN
BEGIN:VEVENT
UID:2691-events@www.saintjosephchievres.be
DTSTART;VALUE=DATE:20200618
DTEND;VALUE=DATE:20200618
DTSTAMP:20190513T204636Z
SUMMARY:CEB
RRULE:FREQ=DAILY;INTERVAL=1;UNTIL=20200623
EXDATE:20200620,20200621
END:VEVENT
END:VCALENDAR