BEGIN:VCALENDAR
VERSION:2.0
PRODID:-//RIGHTHERE//CALENDARIZE IT V3.2//EN
BEGIN:VEVENT
UID:2651-events@www.saintjosephchievres.be
DTSTART;VALUE=DATE:20190531
DTEND;VALUE=DATE:20190531
DTSTAMP:20190406T141402Z
SUMMARY:Cross scolaire (M3 + P123456)
END:VEVENT
END:VCALENDAR