BEGIN:VCALENDAR
VERSION:2.0
PRODID:-//RIGHTHERE//CALENDARIZE IT V3.2//EN
BEGIN:VEVENT
UID:2649-events@www.saintjosephchievres.be
DTSTART;VALUE=DATE:20190507
DTEND;VALUE=DATE:20190507
DTSTAMP:20190406T141252Z
SUMMARY:Photos de classe
END:VEVENT
END:VCALENDAR