BEGIN:VCALENDAR
VERSION:2.0
PRODID:-//RIGHTHERE//CALENDARIZE IT V3.2//EN
BEGIN:VEVENT
UID:2647-events@www.saintjosephchievres.be
DTSTART;VALUE=DATE:20191011
DTEND;VALUE=DATE:20191011
DTSTAMP:20190406T140908Z
SUMMARY:Journée Pédagogique
END:VEVENT
END:VCALENDAR