BEGIN:VCALENDAR
VERSION:2.0
PRODID:-//RIGHTHERE//CALENDARIZE IT V3.2//EN
BEGIN:VEVENT
UID:2419-events@www.saintjosephchievres.be
DTSTART;VALUE=DATE:20220526
DTEND;VALUE=DATE:20220526
DTSTAMP:20181008T071221Z
SUMMARY:Ascension
END:VEVENT
END:VCALENDAR