BEGIN:VCALENDAR
VERSION:2.0
PRODID:-//RIGHTHERE//CALENDARIZE IT V3.2//EN
BEGIN:VEVENT
UID:220-events@www.saintjosephchievres.be
DTSTART;VALUE=DATE:20191005
DTEND;VALUE=DATE:20191005
DTSTAMP:20150921T214939Z
SUMMARY:Souper aux moules
END:VEVENT
END:VCALENDAR